BEGIN:VCALENDAR
VERSION:2.0
PRODID:-//Miller Fabrication Solutions - ECPv6.15.20//NONSGML v1.0//EN
CALSCALE:GREGORIAN
METHOD:PUBLISH
X-WR-CALNAME:Miller Fabrication Solutions
X-ORIGINAL-URL:https://millerfabricationsolutions.com
X-WR-CALDESC:Events for Miller Fabrication Solutions
REFRESH-INTERVAL;VALUE=DURATION:PT1H
X-Robots-Tag:noindex
X-PUBLISHED-TTL:PT1H
BEGIN:VTIMEZONE
TZID:UTC
BEGIN:STANDARD
TZOFFSETFROM:+0000
TZOFFSETTO:+0000
TZNAME:UTC
DTSTART:20180101T000000
END:STANDARD
END:VTIMEZONE
BEGIN:VEVENT
DTSTART;TZID=UTC:20191205T080000
DTEND;TZID=UTC:20191205T140000
DTSTAMP:20260420T091751
CREATED:20191114T204715Z
LAST-MODIFIED:20191224T185229Z
UID:1611-1575532800-1575554400@millerfabricationsolutions.com
SUMMARY:Brookville High School Recruiting Visit
DESCRIPTION:Miller Fabrication Solutions will be visiting Brookville High School students to delve into all the different types of career opportunities available with this Brookville\, PA-based metal fabricator. Welder\, machine operator\, laborer and other open roles will be discussed\, along with the company’s Core Values and Total Rewards Package. \n 
URL:https://millerfabricationsolutions.com/event/brookville-high-school-recruiting-visit/
LOCATION:Brookville High School\, 96 Jenks St\, Brookville\, PA\, 15825\, United States
CATEGORIES:Recruiting Visit
ATTACH;FMTTYPE=image/png:https://millerfabricationsolutions.com/wp-content/uploads/2019/11/brookville-e1573746897679.png
END:VEVENT
END:VCALENDAR